BEGIN:VCALENDAR
VERSION:2.0
PRODID:-//Maurizio Brückner - ECPv6.15.20//NONSGML v1.0//EN
CALSCALE:GREGORIAN
METHOD:PUBLISH
X-ORIGINAL-URL:https://xn--maurizio-brckner-tzb.de
X-WR-CALDESC:Veranstaltungen für Maurizio Brückner
REFRESH-INTERVAL;VALUE=DURATION:PT1H
X-Robots-Tag:noindex
X-PUBLISHED-TTL:PT1H
BEGIN:VTIMEZONE
TZID:Europe/Berlin
BEGIN:DAYLIGHT
TZOFFSETFROM:+0100
TZOFFSETTO:+0200
TZNAME:CEST
DTSTART:20230326T010000
END:DAYLIGHT
BEGIN:STANDARD
TZOFFSETFROM:+0200
TZOFFSETTO:+0100
TZNAME:CET
DTSTART:20231029T010000
END:STANDARD
BEGIN:DAYLIGHT
TZOFFSETFROM:+0100
TZOFFSETTO:+0200
TZNAME:CEST
DTSTART:20240331T010000
END:DAYLIGHT
BEGIN:STANDARD
TZOFFSETFROM:+0200
TZOFFSETTO:+0100
TZNAME:CET
DTSTART:20241027T010000
END:STANDARD
BEGIN:DAYLIGHT
TZOFFSETFROM:+0100
TZOFFSETTO:+0200
TZNAME:CEST
DTSTART:20250330T010000
END:DAYLIGHT
BEGIN:STANDARD
TZOFFSETFROM:+0200
TZOFFSETTO:+0100
TZNAME:CET
DTSTART:20251026T010000
END:STANDARD
END:VTIMEZONE
BEGIN:VEVENT
DTSTART;TZID=Europe/Berlin:20240302T150000
DTEND;TZID=Europe/Berlin:20240302T170000
DTSTAMP:20260420T223806
CREATED:20240225T112545Z
LAST-MODIFIED:20240225T112545Z
UID:854-1709391600-1709398800@xn--maurizio-brckner-tzb.de
SUMMARY:Barpiano im Caféhaus Michaelis
DESCRIPTION:
URL:https://xn--maurizio-brckner-tzb.de/event/barpiano-im-cafehaus-michaelis-2/
LOCATION:Kaffeehaus Michaelis\, Am Düsseldorfer Pl. 1\, Chemnitz\, 09111\, Deutschland
END:VEVENT
BEGIN:VEVENT
DTSTART;TZID=Europe/Berlin:20240303T150000
DTEND;TZID=Europe/Berlin:20240303T170000
DTSTAMP:20260420T223806
CREATED:20240225T112608Z
LAST-MODIFIED:20240225T112608Z
UID:857-1709478000-1709485200@xn--maurizio-brckner-tzb.de
SUMMARY:Barpiano im Caféhaus Michaelis
DESCRIPTION:
URL:https://xn--maurizio-brckner-tzb.de/event/barpiano-im-cafehaus-michaelis-3/
LOCATION:Kaffeehaus Michaelis\, Am Düsseldorfer Pl. 1\, Chemnitz\, 09111\, Deutschland
END:VEVENT
BEGIN:VEVENT
DTSTART;TZID=Europe/Berlin:20240309T150000
DTEND;TZID=Europe/Berlin:20240309T170000
DTSTAMP:20260420T223806
CREATED:20240225T112624Z
LAST-MODIFIED:20240225T112624Z
UID:859-1709996400-1710003600@xn--maurizio-brckner-tzb.de
SUMMARY:Barpiano im Caféhaus Michaelis
DESCRIPTION:
URL:https://xn--maurizio-brckner-tzb.de/event/barpiano-im-cafehaus-michaelis-4/
LOCATION:Kaffeehaus Michaelis\, Am Düsseldorfer Pl. 1\, Chemnitz\, 09111\, Deutschland
END:VEVENT
BEGIN:VEVENT
DTSTART;TZID=Europe/Berlin:20240310T150000
DTEND;TZID=Europe/Berlin:20240310T170000
DTSTAMP:20260420T223806
CREATED:20240225T112644Z
LAST-MODIFIED:20240225T112644Z
UID:861-1710082800-1710090000@xn--maurizio-brckner-tzb.de
SUMMARY:Barpiano im Caféhaus Michaelis
DESCRIPTION:
URL:https://xn--maurizio-brckner-tzb.de/event/barpiano-im-cafehaus-michaelis-5/
LOCATION:Kaffeehaus Michaelis\, Am Düsseldorfer Pl. 1\, Chemnitz\, 09111\, Deutschland
END:VEVENT
BEGIN:VEVENT
DTSTART;TZID=Europe/Berlin:20240323T150000
DTEND;TZID=Europe/Berlin:20240323T170000
DTSTAMP:20260420T223806
CREATED:20240225T112737Z
LAST-MODIFIED:20240225T112737Z
UID:863-1711206000-1711213200@xn--maurizio-brckner-tzb.de
SUMMARY:Barpiano im Caféhaus Michaelis
DESCRIPTION:
URL:https://xn--maurizio-brckner-tzb.de/event/barpiano-im-cafehaus-michaelis-6/
LOCATION:Kaffeehaus Michaelis\, Am Düsseldorfer Pl. 1\, Chemnitz\, 09111\, Deutschland
END:VEVENT
BEGIN:VEVENT
DTSTART;TZID=Europe/Berlin:20240324T150000
DTEND;TZID=Europe/Berlin:20240324T170000
DTSTAMP:20260420T223806
CREATED:20240310T103821Z
LAST-MODIFIED:20240310T103821Z
UID:916-1711292400-1711299600@xn--maurizio-brckner-tzb.de
SUMMARY:Bar Piano im Caféhaus Michaelis
DESCRIPTION:
URL:https://xn--maurizio-brckner-tzb.de/event/bar-piano-im-cafehaus-michaelis/
LOCATION:Kaffeehaus Michaelis\, Am Düsseldorfer Pl. 1\, Chemnitz\, 09111\, Deutschland
END:VEVENT
BEGIN:VEVENT
DTSTART;TZID=Europe/Berlin:20240330T150000
DTEND;TZID=Europe/Berlin:20240330T170000
DTSTAMP:20260420T223806
CREATED:20240225T112802Z
LAST-MODIFIED:20240225T112802Z
UID:865-1711810800-1711818000@xn--maurizio-brckner-tzb.de
SUMMARY:Barpiano im Caféhaus Michaelis
DESCRIPTION:
URL:https://xn--maurizio-brckner-tzb.de/event/barpiano-im-cafehaus-michaelis-7/
LOCATION:Kaffeehaus Michaelis\, Am Düsseldorfer Pl. 1\, Chemnitz\, 09111\, Deutschland
END:VEVENT
BEGIN:VEVENT
DTSTART;TZID=Europe/Berlin:20240331T150000
DTEND;TZID=Europe/Berlin:20240331T170000
DTSTAMP:20260420T223806
CREATED:20240225T112818Z
LAST-MODIFIED:20240225T112818Z
UID:867-1711897200-1711904400@xn--maurizio-brckner-tzb.de
SUMMARY:Barpiano im Caféhaus Michaelis
DESCRIPTION:
URL:https://xn--maurizio-brckner-tzb.de/event/barpiano-im-cafehaus-michaelis-8/
LOCATION:Kaffeehaus Michaelis\, Am Düsseldorfer Pl. 1\, Chemnitz\, 09111\, Deutschland
END:VEVENT
END:VCALENDAR