BEGIN:VCALENDAR
VERSION:2.0
PRODID:-//Maurizio Brückner - ECPv6.15.20//NONSGML v1.0//EN
CALSCALE:GREGORIAN
METHOD:PUBLISH
X-WR-CALNAME:Maurizio Brückner
X-ORIGINAL-URL:https://xn--maurizio-brckner-tzb.de
X-WR-CALDESC:Veranstaltungen für Maurizio Brückner
REFRESH-INTERVAL;VALUE=DURATION:PT1H
X-Robots-Tag:noindex
X-PUBLISHED-TTL:PT1H
BEGIN:VTIMEZONE
TZID:Europe/Berlin
BEGIN:DAYLIGHT
TZOFFSETFROM:+0100
TZOFFSETTO:+0200
TZNAME:CEST
DTSTART:20220327T010000
END:DAYLIGHT
BEGIN:STANDARD
TZOFFSETFROM:+0200
TZOFFSETTO:+0100
TZNAME:CET
DTSTART:20221030T010000
END:STANDARD
BEGIN:DAYLIGHT
TZOFFSETFROM:+0100
TZOFFSETTO:+0200
TZNAME:CEST
DTSTART:20230326T010000
END:DAYLIGHT
BEGIN:STANDARD
TZOFFSETFROM:+0200
TZOFFSETTO:+0100
TZNAME:CET
DTSTART:20231029T010000
END:STANDARD
BEGIN:DAYLIGHT
TZOFFSETFROM:+0100
TZOFFSETTO:+0200
TZNAME:CEST
DTSTART:20240331T010000
END:DAYLIGHT
BEGIN:STANDARD
TZOFFSETFROM:+0200
TZOFFSETTO:+0100
TZNAME:CET
DTSTART:20241027T010000
END:STANDARD
END:VTIMEZONE
BEGIN:VEVENT
DTSTART;TZID=Europe/Berlin:20230805T000000
DTEND;TZID=Europe/Berlin:20230805T000000
DTSTAMP:20260423T171112
CREATED:20231124T231735Z
LAST-MODIFIED:20231124T231737Z
UID:668-1691193600-1691193600@xn--maurizio-brckner-tzb.de
SUMMARY:Auftritt Luxus-Loft
DESCRIPTION:Chemnitz – Weinfest
URL:https://xn--maurizio-brckner-tzb.de/event/auftritt-luxus-loft-8/
LOCATION:Luxus-Loft
END:VEVENT
BEGIN:VEVENT
DTSTART;TZID=Europe/Berlin:20230812T000000
DTEND;TZID=Europe/Berlin:20230812T000000
DTSTAMP:20260423T171112
CREATED:20231124T231736Z
LAST-MODIFIED:20231124T231737Z
UID:669-1691798400-1691798400@xn--maurizio-brckner-tzb.de
SUMMARY:Auftritt Luxus-Loft
DESCRIPTION:Chemnitz – Weinfest
URL:https://xn--maurizio-brckner-tzb.de/event/auftritt-luxus-loft-9/
LOCATION:Luxus-Loft
END:VEVENT
BEGIN:VEVENT
DTSTART;TZID=Europe/Berlin:20230825T000000
DTEND;TZID=Europe/Berlin:20230825T000000
DTSTAMP:20260423T171112
CREATED:20231124T231736Z
LAST-MODIFIED:20231124T231737Z
UID:670-1692921600-1692921600@xn--maurizio-brckner-tzb.de
SUMMARY:Auftritt Luxus-Loft
DESCRIPTION:Chemnitz – Firmenfeier
URL:https://xn--maurizio-brckner-tzb.de/event/auftritt-luxus-loft-10/
LOCATION:Luxus-Loft
END:VEVENT
BEGIN:VEVENT
DTSTART;TZID=Europe/Berlin:20230826T000000
DTEND;TZID=Europe/Berlin:20230826T000000
DTSTAMP:20260423T171112
CREATED:20231124T231753Z
LAST-MODIFIED:20231124T231753Z
UID:676-1693008000-1693008000@xn--maurizio-brckner-tzb.de
SUMMARY:Auftritt Luxus-Loft
DESCRIPTION:Zwickau – Zwickauer Stadtfest
URL:https://xn--maurizio-brckner-tzb.de/event/auftritt-luxus-loft-11/
LOCATION:Luxus-Loft
END:VEVENT
END:VCALENDAR